BEGIN:VCALENDAR
VERSION:2.0
PRODID:-//Plone.org//NONSGML plone.app.event//EN
X-WR-TIMEZONE:Europe/Berlin
BEGIN:VEVENT
SUMMARY:Schulung zum Antidiskriminierungs-Scout 2025
DTSTART;TZID=Europe/Berlin;VALUE=DATE-TIME:20250325T100000
DTEND;TZID=Europe/Berlin;VALUE=DATE-TIME:20250325T150000
DTSTAMP;VALUE=DATE-TIME:20260424T000422Z
UID:3bf46e0acefd47fabd71e743b5d00046@www.selbsthilfe-inklusiv.de
CONTACT:ADB / LV Selbsthilfe\, 030 27592525\, info@lv-selbsthilfe.de
CREATED;VALUE=DATE-TIME:20240924T152001Z
DESCRIPTION:Online-Veranstaltung in zwei Modulen am Dienstag\, den 25.03.2
 025 und Dienstag\, den 1.04.2025\, jeweils von 10 bis 15 Uhr.
LAST-MODIFIED;VALUE=DATE-TIME:20260119T085417Z
LOCATION:ADB\, Online-Veranstaltung
URL:https://www.selbsthilfe-inklusiv.de/adb/aktuelles/veranstaltungen/schu
 lung-zum-antidiskriminierungs-scout-2025
END:VEVENT
BEGIN:VTIMEZONE
TZID:Europe/Berlin
X-LIC-LOCATION:Europe/Berlin
BEGIN:STANDARD
DTSTART;VALUE=DATE-TIME:20241027T020000
TZNAME:CET
TZOFFSETFROM:+0200
TZOFFSETTO:+0100
END:STANDARD
END:VTIMEZONE
END:VCALENDAR
